BEGIN:VCALENDAR
VERSION:2.0
PRODID:-//Tukios.com/
BEGIN:VEVENT
UID:32fb9736-140a-4dc0-a4c0-44446c704823@www.mdbfuneralhome.com
DTSTAMP:20260425T201407Z
DTSTART:20260530T170000Z
DTEND:20260530T200000Z
SUMMARY:Celebration of Life
DESCRIPTION:
URL:https://www.mdbfuneralhome.com/obituaries/marguerite-maggie-mcnicoll
LOCATION:Pembroke Golf Club 253 Golf Course Rd  Pembroke ON .
GEO:45.8519891;-77.1760169
END:VEVENT
END:VCALENDAR