BEGIN:VCALENDAR
VERSION:2.0
PRODID:-//Tukios.com/
BEGIN:VEVENT
UID:ab2bc4d2-dc06-42f1-a4a5-d5bfda5927c6@www.mdbfuneralhome.com
DTSTAMP:20260421T220746Z
DTSTART:20260529T160000Z
DTEND:20260529T170000Z
SUMMARY:Celebration of Life
DESCRIPTION:
URL:https://www.mdbfuneralhome.com/obituaries/lyndon-blimke
LOCATION:The Bears Den 33177 Hwy 17  Pembroke ON K0J1P0
GEO:46.4311894;-80.2509096
END:VEVENT
END:VCALENDAR