BEGIN:VCALENDAR
VERSION:2.0
PRODID:-//Tukios.com/
BEGIN:VEVENT
UID:399abb82-de55-454b-b780-8a5f56a24bf8@www.mdbfuneralhome.com
DTSTAMP:20260421T220701Z
DTSTART:20260529
SUMMARY:Interment
DESCRIPTION:
URL:https://www.mdbfuneralhome.com/obituaries/lyndon-blimke
LOCATION:Town of Deep River Cemetery 82 McAnulty Rd  Deep River ON K0J1P0
GEO:46.1127956;-77.5172178
END:VEVENT
END:VCALENDAR