BEGIN:VCALENDAR
VERSION:2.0
PRODID:-//Tukios.com/
BEGIN:VEVENT
UID:d29573a8-3882-4e01-9e87-e87e0fabfd6a@www.mdbfuneralhome.com
DTSTAMP:20260421T221426Z
DTSTART:20260529T150000Z
DTEND:20260529T160000Z
SUMMARY:Celebration of Life
DESCRIPTION:
URL:https://www.mdbfuneralhome.com/obituaries/lyndon-blimke
LOCATION:Deep River Community Church 115 Deep River Rd  Deep River ON K0J 
	1P0
GEO:46.0990522;-77.4900463
END:VEVENT
END:VCALENDAR