BEGIN:VCALENDAR
VERSION:2.0
PRODID:-//Tukios.com/
BEGIN:VEVENT
UID:bb1bf070-d9f2-4a18-82af-6459e0130e2a@www.mdbfuneralhome.com
DTSTAMP:20260422T171923Z
DTSTART:20260509T150000Z
DTEND:20260509T160000Z
SUMMARY:Memorial Service
DESCRIPTION:
URL:https://www.mdbfuneralhome.com/obituaries/brenda-witt
LOCATION:Faith Lutheran Church 43 Meadowlands Drive West  Ottawa ON K2G 
	2R5
GEO:45.3489601;-75.7393681
END:VEVENT
END:VCALENDAR