BEGIN:VCALENDAR
VERSION:2.0
PRODID:-//Tukios.com/
BEGIN:VEVENT
UID:b09ad9a8-e1e5-47b5-a1bb-727d427262b5@www.mdbfuneralhome.com
DTSTAMP:20260422T172242Z
DTSTART:20260509T140000Z
DTEND:20260509T144500Z
SUMMARY:Visitation
DESCRIPTION:
URL:https://www.mdbfuneralhome.com/obituaries/brenda-witt
LOCATION:Faith Lutheran Church 43 Meadowlands Drive West  Ottawa ON K2G 
	2R5
GEO:45.3489601;-75.7393681
END:VEVENT
END:VCALENDAR